BEGIN:VCALENDAR
VERSION:2.0
PRODID:-//Inside the Mani - ECPv6.15.20//NONSGML v1.0//EN
CALSCALE:GREGORIAN
METHOD:PUBLISH
X-ORIGINAL-URL:https://insidethemani.com
X-WR-CALDESC:Events for Inside the Mani
REFRESH-INTERVAL;VALUE=DURATION:PT1H
X-Robots-Tag:noindex
X-PUBLISHED-TTL:PT1H
BEGIN:VTIMEZONE
TZID:Europe/Athens
BEGIN:DAYLIGHT
TZOFFSETFROM:+0200
TZOFFSETTO:+0300
TZNAME:EEST
DTSTART:20290325T010000
END:DAYLIGHT
BEGIN:STANDARD
TZOFFSETFROM:+0300
TZOFFSETTO:+0200
TZNAME:EET
DTSTART:20291028T010000
END:STANDARD
BEGIN:DAYLIGHT
TZOFFSETFROM:+0200
TZOFFSETTO:+0300
TZNAME:EEST
DTSTART:20300331T010000
END:DAYLIGHT
BEGIN:STANDARD
TZOFFSETFROM:+0300
TZOFFSETTO:+0200
TZNAME:EET
DTSTART:20301027T010000
END:STANDARD
BEGIN:DAYLIGHT
TZOFFSETFROM:+0200
TZOFFSETTO:+0300
TZNAME:EEST
DTSTART:20310330T010000
END:DAYLIGHT
BEGIN:STANDARD
TZOFFSETFROM:+0300
TZOFFSETTO:+0200
TZNAME:EET
DTSTART:20311026T010000
END:STANDARD
END:VTIMEZONE
BEGIN:VEVENT
DTSTART;TZID=Europe/Athens:20300905T193000
DTEND;TZID=Europe/Athens:20300905T230000
DTSTAMP:20260422T030636
CREATED:20250719T110133Z
LAST-MODIFIED:20251023T145642Z
UID:10007668-1914867000-1914879600@insidethemani.com
SUMMARY:Live Greek Music
DESCRIPTION:Every Thursday at Liastres taverna. \nEnjoy a relaxed evening listening to a 2-piece group playing traditional Greek songs. All with the backdrop of Stoupa bay behind them. \n 
URL:https://insidethemani.com/event/live-greek-music-3/2030-09-05/
LOCATION:Liastres taverna\, Stoupa
ATTACH;FMTTYPE=image/webp:https://insidethemani.com/wp-content/uploads/2025/07/Liastres.webp
GEO:36.847176372521;22.256566140889
END:VEVENT
BEGIN:VEVENT
DTSTART;TZID=Europe/Athens:20300912T193000
DTEND;TZID=Europe/Athens:20300912T230000
DTSTAMP:20260422T030636
CREATED:20250719T110133Z
LAST-MODIFIED:20251023T145642Z
UID:10007669-1915471800-1915484400@insidethemani.com
SUMMARY:Live Greek Music
DESCRIPTION:Every Thursday at Liastres taverna. \nEnjoy a relaxed evening listening to a 2-piece group playing traditional Greek songs. All with the backdrop of Stoupa bay behind them. \n 
URL:https://insidethemani.com/event/live-greek-music-3/2030-09-12/
LOCATION:Liastres taverna\, Stoupa
ATTACH;FMTTYPE=image/webp:https://insidethemani.com/wp-content/uploads/2025/07/Liastres.webp
GEO:36.847176372521;22.256566140889
END:VEVENT
BEGIN:VEVENT
DTSTART;TZID=Europe/Athens:20300919T193000
DTEND;TZID=Europe/Athens:20300919T230000
DTSTAMP:20260422T030636
CREATED:20250719T110133Z
LAST-MODIFIED:20251023T145642Z
UID:10007670-1916076600-1916089200@insidethemani.com
SUMMARY:Live Greek Music
DESCRIPTION:Every Thursday at Liastres taverna. \nEnjoy a relaxed evening listening to a 2-piece group playing traditional Greek songs. All with the backdrop of Stoupa bay behind them. \n 
URL:https://insidethemani.com/event/live-greek-music-3/2030-09-19/
LOCATION:Liastres taverna\, Stoupa
ATTACH;FMTTYPE=image/webp:https://insidethemani.com/wp-content/uploads/2025/07/Liastres.webp
GEO:36.847176372521;22.256566140889
END:VEVENT
BEGIN:VEVENT
DTSTART;TZID=Europe/Athens:20300926T193000
DTEND;TZID=Europe/Athens:20300926T230000
DTSTAMP:20260422T030636
CREATED:20250719T110133Z
LAST-MODIFIED:20251023T145642Z
UID:10007671-1916681400-1916694000@insidethemani.com
SUMMARY:Live Greek Music
DESCRIPTION:Every Thursday at Liastres taverna. \nEnjoy a relaxed evening listening to a 2-piece group playing traditional Greek songs. All with the backdrop of Stoupa bay behind them. \n 
URL:https://insidethemani.com/event/live-greek-music-3/2030-09-26/
LOCATION:Liastres taverna\, Stoupa
ATTACH;FMTTYPE=image/webp:https://insidethemani.com/wp-content/uploads/2025/07/Liastres.webp
GEO:36.847176372521;22.256566140889
END:VEVENT
BEGIN:VEVENT
DTSTART;TZID=Europe/Athens:20301003T193000
DTEND;TZID=Europe/Athens:20301003T230000
DTSTAMP:20260422T030636
CREATED:20250719T110133Z
LAST-MODIFIED:20251023T145642Z
UID:10007672-1917286200-1917298800@insidethemani.com
SUMMARY:Live Greek Music
DESCRIPTION:Every Thursday at Liastres taverna. \nEnjoy a relaxed evening listening to a 2-piece group playing traditional Greek songs. All with the backdrop of Stoupa bay behind them. \n 
URL:https://insidethemani.com/event/live-greek-music-3/2030-10-03/
LOCATION:Liastres taverna\, Stoupa
ATTACH;FMTTYPE=image/webp:https://insidethemani.com/wp-content/uploads/2025/07/Liastres.webp
GEO:36.847176372521;22.256566140889
END:VEVENT
BEGIN:VEVENT
DTSTART;TZID=Europe/Athens:20301010T193000
DTEND;TZID=Europe/Athens:20301010T230000
DTSTAMP:20260422T030636
CREATED:20250719T110133Z
LAST-MODIFIED:20251023T145642Z
UID:10007673-1917891000-1917903600@insidethemani.com
SUMMARY:Live Greek Music
DESCRIPTION:Every Thursday at Liastres taverna. \nEnjoy a relaxed evening listening to a 2-piece group playing traditional Greek songs. All with the backdrop of Stoupa bay behind them. \n 
URL:https://insidethemani.com/event/live-greek-music-3/2030-10-10/
LOCATION:Liastres taverna\, Stoupa
ATTACH;FMTTYPE=image/webp:https://insidethemani.com/wp-content/uploads/2025/07/Liastres.webp
GEO:36.847176372521;22.256566140889
END:VEVENT
BEGIN:VEVENT
DTSTART;TZID=Europe/Athens:20301017T193000
DTEND;TZID=Europe/Athens:20301017T230000
DTSTAMP:20260422T030636
CREATED:20250719T110133Z
LAST-MODIFIED:20251023T145642Z
UID:10007674-1918495800-1918508400@insidethemani.com
SUMMARY:Live Greek Music
DESCRIPTION:Every Thursday at Liastres taverna. \nEnjoy a relaxed evening listening to a 2-piece group playing traditional Greek songs. All with the backdrop of Stoupa bay behind them. \n 
URL:https://insidethemani.com/event/live-greek-music-3/2030-10-17/
LOCATION:Liastres taverna\, Stoupa
ATTACH;FMTTYPE=image/webp:https://insidethemani.com/wp-content/uploads/2025/07/Liastres.webp
GEO:36.847176372521;22.256566140889
END:VEVENT
END:VCALENDAR