BEGIN:VCALENDAR
VERSION:2.0
PRODID:-//Inside the Mani - ECPv6.15.20//NONSGML v1.0//EN
CALSCALE:GREGORIAN
METHOD:PUBLISH
X-ORIGINAL-URL:https://insidethemani.com
X-WR-CALDESC:Events for Inside the Mani
REFRESH-INTERVAL;VALUE=DURATION:PT1H
X-Robots-Tag:noindex
X-PUBLISHED-TTL:PT1H
BEGIN:VTIMEZONE
TZID:Europe/Athens
BEGIN:DAYLIGHT
TZOFFSETFROM:+0200
TZOFFSETTO:+0300
TZNAME:EEST
DTSTART:20290325T010000
END:DAYLIGHT
BEGIN:STANDARD
TZOFFSETFROM:+0300
TZOFFSETTO:+0200
TZNAME:EET
DTSTART:20291028T010000
END:STANDARD
BEGIN:DAYLIGHT
TZOFFSETFROM:+0200
TZOFFSETTO:+0300
TZNAME:EEST
DTSTART:20300331T010000
END:DAYLIGHT
BEGIN:STANDARD
TZOFFSETFROM:+0300
TZOFFSETTO:+0200
TZNAME:EET
DTSTART:20301027T010000
END:STANDARD
BEGIN:DAYLIGHT
TZOFFSETFROM:+0200
TZOFFSETTO:+0300
TZNAME:EEST
DTSTART:20310330T010000
END:DAYLIGHT
BEGIN:STANDARD
TZOFFSETFROM:+0300
TZOFFSETTO:+0200
TZNAME:EET
DTSTART:20311026T010000
END:STANDARD
BEGIN:DAYLIGHT
TZOFFSETFROM:+0200
TZOFFSETTO:+0300
TZNAME:EEST
DTSTART:20320328T010000
END:DAYLIGHT
BEGIN:STANDARD
TZOFFSETFROM:+0300
TZOFFSETTO:+0200
TZNAME:EET
DTSTART:20321031T010000
END:STANDARD
END:VTIMEZONE
BEGIN:VEVENT
DTSTART;TZID=Europe/Athens:20301129T193000
DTEND;TZID=Europe/Athens:20301129T233000
DTSTAMP:20260419T201418
CREATED:20260125T092819Z
LAST-MODIFIED:20260125T092820Z
UID:10008424-1922211000-1922225400@insidethemani.com
SUMMARY:Live Greek music in Nomitsi
DESCRIPTION:A 3-piece band (bouzouki\, guitar & vocals) playing a range of traditional Greek folk music and rembetika. \nAn earlier start for the winter!
URL:https://insidethemani.com/event/live-greek-music-in-nomitsi-2/2030-11-29/
LOCATION:Refoulo grill & coffee bar\, Nomitsi
CATEGORIES:Live Music
ATTACH;FMTTYPE=image/webp:https://insidethemani.com/wp-content/uploads/2025/06/Rofoulo2.webp
GEO:36.791849458947;22.325400048647
END:VEVENT
BEGIN:VEVENT
DTSTART;TZID=Europe/Athens:20301206T193000
DTEND;TZID=Europe/Athens:20301206T233000
DTSTAMP:20260419T201418
CREATED:20260125T092819Z
LAST-MODIFIED:20260125T092820Z
UID:10008425-1922815800-1922830200@insidethemani.com
SUMMARY:Live Greek music in Nomitsi
DESCRIPTION:A 3-piece band (bouzouki\, guitar & vocals) playing a range of traditional Greek folk music and rembetika. \nAn earlier start for the winter!
URL:https://insidethemani.com/event/live-greek-music-in-nomitsi-2/2030-12-06/
LOCATION:Refoulo grill & coffee bar\, Nomitsi
CATEGORIES:Live Music
ATTACH;FMTTYPE=image/webp:https://insidethemani.com/wp-content/uploads/2025/06/Rofoulo2.webp
GEO:36.791849458947;22.325400048647
END:VEVENT
BEGIN:VEVENT
DTSTART;TZID=Europe/Athens:20301213T193000
DTEND;TZID=Europe/Athens:20301213T233000
DTSTAMP:20260419T201418
CREATED:20260125T092819Z
LAST-MODIFIED:20260125T092820Z
UID:10008429-1923420600-1923435000@insidethemani.com
SUMMARY:Live Greek music in Nomitsi
DESCRIPTION:A 3-piece band (bouzouki\, guitar & vocals) playing a range of traditional Greek folk music and rembetika. \nAn earlier start for the winter!
URL:https://insidethemani.com/event/live-greek-music-in-nomitsi-2/2030-12-13/
LOCATION:Refoulo grill & coffee bar\, Nomitsi
CATEGORIES:Live Music
ATTACH;FMTTYPE=image/webp:https://insidethemani.com/wp-content/uploads/2025/06/Rofoulo2.webp
GEO:36.791849458947;22.325400048647
END:VEVENT
BEGIN:VEVENT
DTSTART;TZID=Europe/Athens:20301220T193000
DTEND;TZID=Europe/Athens:20301220T233000
DTSTAMP:20260419T201418
CREATED:20260125T092819Z
LAST-MODIFIED:20260125T092820Z
UID:10008430-1924025400-1924039800@insidethemani.com
SUMMARY:Live Greek music in Nomitsi
DESCRIPTION:A 3-piece band (bouzouki\, guitar & vocals) playing a range of traditional Greek folk music and rembetika. \nAn earlier start for the winter!
URL:https://insidethemani.com/event/live-greek-music-in-nomitsi-2/2030-12-20/
LOCATION:Refoulo grill & coffee bar\, Nomitsi
CATEGORIES:Live Music
ATTACH;FMTTYPE=image/webp:https://insidethemani.com/wp-content/uploads/2025/06/Rofoulo2.webp
GEO:36.791849458947;22.325400048647
END:VEVENT
BEGIN:VEVENT
DTSTART;TZID=Europe/Athens:20301227T193000
DTEND;TZID=Europe/Athens:20301227T233000
DTSTAMP:20260419T201418
CREATED:20260125T092819Z
LAST-MODIFIED:20260125T092820Z
UID:10008431-1924630200-1924644600@insidethemani.com
SUMMARY:Live Greek music in Nomitsi
DESCRIPTION:A 3-piece band (bouzouki\, guitar & vocals) playing a range of traditional Greek folk music and rembetika. \nAn earlier start for the winter!
URL:https://insidethemani.com/event/live-greek-music-in-nomitsi-2/2030-12-27/
LOCATION:Refoulo grill & coffee bar\, Nomitsi
CATEGORIES:Live Music
ATTACH;FMTTYPE=image/webp:https://insidethemani.com/wp-content/uploads/2025/06/Rofoulo2.webp
GEO:36.791849458947;22.325400048647
END:VEVENT
BEGIN:VEVENT
DTSTART;TZID=Europe/Athens:20310103T193000
DTEND;TZID=Europe/Athens:20310103T233000
DTSTAMP:20260419T201418
CREATED:20260125T092819Z
LAST-MODIFIED:20260125T092820Z
UID:10008432-1925235000-1925249400@insidethemani.com
SUMMARY:Live Greek music in Nomitsi
DESCRIPTION:A 3-piece band (bouzouki\, guitar & vocals) playing a range of traditional Greek folk music and rembetika. \nAn earlier start for the winter!
URL:https://insidethemani.com/event/live-greek-music-in-nomitsi-2/2031-01-03/
LOCATION:Refoulo grill & coffee bar\, Nomitsi
CATEGORIES:Live Music
ATTACH;FMTTYPE=image/webp:https://insidethemani.com/wp-content/uploads/2025/06/Rofoulo2.webp
GEO:36.791849458947;22.325400048647
END:VEVENT
BEGIN:VEVENT
DTSTART;TZID=Europe/Athens:20310110T193000
DTEND;TZID=Europe/Athens:20310110T233000
DTSTAMP:20260419T201418
CREATED:20260125T092819Z
LAST-MODIFIED:20260125T092820Z
UID:10008433-1925839800-1925854200@insidethemani.com
SUMMARY:Live Greek music in Nomitsi
DESCRIPTION:A 3-piece band (bouzouki\, guitar & vocals) playing a range of traditional Greek folk music and rembetika. \nAn earlier start for the winter!
URL:https://insidethemani.com/event/live-greek-music-in-nomitsi-2/2031-01-10/
LOCATION:Refoulo grill & coffee bar\, Nomitsi
CATEGORIES:Live Music
ATTACH;FMTTYPE=image/webp:https://insidethemani.com/wp-content/uploads/2025/06/Rofoulo2.webp
GEO:36.791849458947;22.325400048647
END:VEVENT
BEGIN:VEVENT
DTSTART;TZID=Europe/Athens:20310117T193000
DTEND;TZID=Europe/Athens:20310117T233000
DTSTAMP:20260419T201418
CREATED:20260125T092819Z
LAST-MODIFIED:20260125T092820Z
UID:10008434-1926444600-1926459000@insidethemani.com
SUMMARY:Live Greek music in Nomitsi
DESCRIPTION:A 3-piece band (bouzouki\, guitar & vocals) playing a range of traditional Greek folk music and rembetika. \nAn earlier start for the winter!
URL:https://insidethemani.com/event/live-greek-music-in-nomitsi-2/2031-01-17/
LOCATION:Refoulo grill & coffee bar\, Nomitsi
CATEGORIES:Live Music
ATTACH;FMTTYPE=image/webp:https://insidethemani.com/wp-content/uploads/2025/06/Rofoulo2.webp
GEO:36.791849458947;22.325400048647
END:VEVENT
BEGIN:VEVENT
DTSTART;TZID=Europe/Athens:20310124T193000
DTEND;TZID=Europe/Athens:20310124T233000
DTSTAMP:20260419T201418
CREATED:20260125T092819Z
LAST-MODIFIED:20260125T092820Z
UID:10008435-1927049400-1927063800@insidethemani.com
SUMMARY:Live Greek music in Nomitsi
DESCRIPTION:A 3-piece band (bouzouki\, guitar & vocals) playing a range of traditional Greek folk music and rembetika. \nAn earlier start for the winter!
URL:https://insidethemani.com/event/live-greek-music-in-nomitsi-2/2031-01-24/
LOCATION:Refoulo grill & coffee bar\, Nomitsi
CATEGORIES:Live Music
ATTACH;FMTTYPE=image/webp:https://insidethemani.com/wp-content/uploads/2025/06/Rofoulo2.webp
GEO:36.791849458947;22.325400048647
END:VEVENT
END:VCALENDAR