BEGIN:VCALENDAR
VERSION:2.0
PRODID:-//Inside the Mani - ECPv6.15.20//NONSGML v1.0//EN
CALSCALE:GREGORIAN
METHOD:PUBLISH
X-WR-CALNAME:Inside the Mani
X-ORIGINAL-URL:https://insidethemani.com
X-WR-CALDESC:Events for Inside the Mani
REFRESH-INTERVAL;VALUE=DURATION:PT1H
X-Robots-Tag:noindex
X-PUBLISHED-TTL:PT1H
BEGIN:VTIMEZONE
TZID:Europe/Athens
BEGIN:DAYLIGHT
TZOFFSETFROM:+0200
TZOFFSETTO:+0300
TZNAME:EEST
DTSTART:20290325T010000
END:DAYLIGHT
BEGIN:STANDARD
TZOFFSETFROM:+0300
TZOFFSETTO:+0200
TZNAME:EET
DTSTART:20291028T010000
END:STANDARD
BEGIN:DAYLIGHT
TZOFFSETFROM:+0200
TZOFFSETTO:+0300
TZNAME:EEST
DTSTART:20300331T010000
END:DAYLIGHT
BEGIN:STANDARD
TZOFFSETFROM:+0300
TZOFFSETTO:+0200
TZNAME:EET
DTSTART:20301027T010000
END:STANDARD
BEGIN:DAYLIGHT
TZOFFSETFROM:+0200
TZOFFSETTO:+0300
TZNAME:EEST
DTSTART:20310330T010000
END:DAYLIGHT
BEGIN:STANDARD
TZOFFSETFROM:+0300
TZOFFSETTO:+0200
TZNAME:EET
DTSTART:20311026T010000
END:STANDARD
END:VTIMEZONE
BEGIN:VEVENT
DTSTART;TZID=Europe/Athens:20301101T193000
DTEND;TZID=Europe/Athens:20301101T233000
DTSTAMP:20260423T230445
CREATED:20260125T092819Z
LAST-MODIFIED:20260125T092820Z
UID:10008420-1919791800-1919806200@insidethemani.com
SUMMARY:Live Greek music in Nomitsi
DESCRIPTION:A 3-piece band (bouzouki\, guitar & vocals) playing a range of traditional Greek folk music and rembetika. \nAn earlier start for the winter!
URL:https://insidethemani.com/event/live-greek-music-in-nomitsi-2/2030-11-01/
LOCATION:Refoulo grill & coffee bar\, Nomitsi
CATEGORIES:Live Music
ATTACH;FMTTYPE=image/webp:https://insidethemani.com/wp-content/uploads/2025/06/Rofoulo2.webp
GEO:36.791849458947;22.325400048647
END:VEVENT
BEGIN:VEVENT
DTSTART;TZID=Europe/Athens:20301107T190000
DTEND;TZID=Europe/Athens:20301107T220000
DTSTAMP:20260423T230445
CREATED:20250702T111548Z
LAST-MODIFIED:20251127T103435Z
UID:10008038-1920308400-1920319200@insidethemani.com
SUMMARY:Greek Night
DESCRIPTION:Live Greek music in Stathi’s taverna in Pigi- dancing and merriment all night long! Enjoy superb views down to the coast\, amazing sunsets and Stathi’s renowned trays of starters. \nPlease note that access by car is limited in the village of Pigi. There is a walk through the village from car parking areas of around 500m. Well worth the effort. \nReservations: +30 6932214562
URL:https://insidethemani.com/event/greek-night/2030-11-07/
LOCATION:Stathi’s Taverna\, Pigi
ATTACH;FMTTYPE=image/webp:https://insidethemani.com/wp-content/uploads/2025/07/Stathi.webp
GEO:36.809337162016;22.318004272437
END:VEVENT
BEGIN:VEVENT
DTSTART;TZID=Europe/Athens:20301108T193000
DTEND;TZID=Europe/Athens:20301108T233000
DTSTAMP:20260423T230445
CREATED:20260125T092819Z
LAST-MODIFIED:20260125T092820Z
UID:10008421-1920396600-1920411000@insidethemani.com
SUMMARY:Live Greek music in Nomitsi
DESCRIPTION:A 3-piece band (bouzouki\, guitar & vocals) playing a range of traditional Greek folk music and rembetika. \nAn earlier start for the winter!
URL:https://insidethemani.com/event/live-greek-music-in-nomitsi-2/2030-11-08/
LOCATION:Refoulo grill & coffee bar\, Nomitsi
CATEGORIES:Live Music
ATTACH;FMTTYPE=image/webp:https://insidethemani.com/wp-content/uploads/2025/06/Rofoulo2.webp
GEO:36.791849458947;22.325400048647
END:VEVENT
BEGIN:VEVENT
DTSTART;TZID=Europe/Athens:20301114T190000
DTEND;TZID=Europe/Athens:20301114T220000
DTSTAMP:20260423T230445
CREATED:20250702T111548Z
LAST-MODIFIED:20251127T103435Z
UID:10008039-1920913200-1920924000@insidethemani.com
SUMMARY:Greek Night
DESCRIPTION:Live Greek music in Stathi’s taverna in Pigi- dancing and merriment all night long! Enjoy superb views down to the coast\, amazing sunsets and Stathi’s renowned trays of starters. \nPlease note that access by car is limited in the village of Pigi. There is a walk through the village from car parking areas of around 500m. Well worth the effort. \nReservations: +30 6932214562
URL:https://insidethemani.com/event/greek-night/2030-11-14/
LOCATION:Stathi’s Taverna\, Pigi
ATTACH;FMTTYPE=image/webp:https://insidethemani.com/wp-content/uploads/2025/07/Stathi.webp
GEO:36.809337162016;22.318004272437
END:VEVENT
BEGIN:VEVENT
DTSTART;TZID=Europe/Athens:20301115T193000
DTEND;TZID=Europe/Athens:20301115T233000
DTSTAMP:20260423T230445
CREATED:20260125T092819Z
LAST-MODIFIED:20260125T092820Z
UID:10008422-1921001400-1921015800@insidethemani.com
SUMMARY:Live Greek music in Nomitsi
DESCRIPTION:A 3-piece band (bouzouki\, guitar & vocals) playing a range of traditional Greek folk music and rembetika. \nAn earlier start for the winter!
URL:https://insidethemani.com/event/live-greek-music-in-nomitsi-2/2030-11-15/
LOCATION:Refoulo grill & coffee bar\, Nomitsi
CATEGORIES:Live Music
ATTACH;FMTTYPE=image/webp:https://insidethemani.com/wp-content/uploads/2025/06/Rofoulo2.webp
GEO:36.791849458947;22.325400048647
END:VEVENT
BEGIN:VEVENT
DTSTART;TZID=Europe/Athens:20301121T190000
DTEND;TZID=Europe/Athens:20301121T220000
DTSTAMP:20260423T230445
CREATED:20250702T111548Z
LAST-MODIFIED:20251127T103435Z
UID:10008040-1921518000-1921528800@insidethemani.com
SUMMARY:Greek Night
DESCRIPTION:Live Greek music in Stathi’s taverna in Pigi- dancing and merriment all night long! Enjoy superb views down to the coast\, amazing sunsets and Stathi’s renowned trays of starters. \nPlease note that access by car is limited in the village of Pigi. There is a walk through the village from car parking areas of around 500m. Well worth the effort. \nReservations: +30 6932214562
URL:https://insidethemani.com/event/greek-night/2030-11-21/
LOCATION:Stathi’s Taverna\, Pigi
ATTACH;FMTTYPE=image/webp:https://insidethemani.com/wp-content/uploads/2025/07/Stathi.webp
GEO:36.809337162016;22.318004272437
END:VEVENT
BEGIN:VEVENT
DTSTART;TZID=Europe/Athens:20301122T193000
DTEND;TZID=Europe/Athens:20301122T233000
DTSTAMP:20260423T230445
CREATED:20260125T092819Z
LAST-MODIFIED:20260125T092820Z
UID:10008423-1921606200-1921620600@insidethemani.com
SUMMARY:Live Greek music in Nomitsi
DESCRIPTION:A 3-piece band (bouzouki\, guitar & vocals) playing a range of traditional Greek folk music and rembetika. \nAn earlier start for the winter!
URL:https://insidethemani.com/event/live-greek-music-in-nomitsi-2/2030-11-22/
LOCATION:Refoulo grill & coffee bar\, Nomitsi
CATEGORIES:Live Music
ATTACH;FMTTYPE=image/webp:https://insidethemani.com/wp-content/uploads/2025/06/Rofoulo2.webp
GEO:36.791849458947;22.325400048647
END:VEVENT
BEGIN:VEVENT
DTSTART;TZID=Europe/Athens:20301129T193000
DTEND;TZID=Europe/Athens:20301129T233000
DTSTAMP:20260423T230445
CREATED:20260125T092819Z
LAST-MODIFIED:20260125T092820Z
UID:10008424-1922211000-1922225400@insidethemani.com
SUMMARY:Live Greek music in Nomitsi
DESCRIPTION:A 3-piece band (bouzouki\, guitar & vocals) playing a range of traditional Greek folk music and rembetika. \nAn earlier start for the winter!
URL:https://insidethemani.com/event/live-greek-music-in-nomitsi-2/2030-11-29/
LOCATION:Refoulo grill & coffee bar\, Nomitsi
CATEGORIES:Live Music
ATTACH;FMTTYPE=image/webp:https://insidethemani.com/wp-content/uploads/2025/06/Rofoulo2.webp
GEO:36.791849458947;22.325400048647
END:VEVENT
END:VCALENDAR