BEGIN:VCALENDAR
VERSION:2.0
PRODID:-//Inside the Mani - ECPv6.15.20//NONSGML v1.0//EN
CALSCALE:GREGORIAN
METHOD:PUBLISH
X-WR-CALNAME:Inside the Mani
X-ORIGINAL-URL:https://insidethemani.com
X-WR-CALDESC:Events for Inside the Mani
REFRESH-INTERVAL;VALUE=DURATION:PT1H
X-Robots-Tag:noindex
X-PUBLISHED-TTL:PT1H
BEGIN:VTIMEZONE
TZID:Europe/Athens
BEGIN:DAYLIGHT
TZOFFSETFROM:+0200
TZOFFSETTO:+0300
TZNAME:EEST
DTSTART:20250330T010000
END:DAYLIGHT
BEGIN:STANDARD
TZOFFSETFROM:+0300
TZOFFSETTO:+0200
TZNAME:EET
DTSTART:20251026T010000
END:STANDARD
BEGIN:DAYLIGHT
TZOFFSETFROM:+0200
TZOFFSETTO:+0300
TZNAME:EEST
DTSTART:20260329T010000
END:DAYLIGHT
BEGIN:STANDARD
TZOFFSETFROM:+0300
TZOFFSETTO:+0200
TZNAME:EET
DTSTART:20261025T010000
END:STANDARD
BEGIN:DAYLIGHT
TZOFFSETFROM:+0200
TZOFFSETTO:+0300
TZNAME:EEST
DTSTART:20270328T010000
END:DAYLIGHT
BEGIN:STANDARD
TZOFFSETFROM:+0300
TZOFFSETTO:+0200
TZNAME:EET
DTSTART:20271031T010000
END:STANDARD
END:VTIMEZONE
BEGIN:VEVENT
DTSTART;TZID=Europe/Athens:20260425T180000
DTEND;TZID=Europe/Athens:20260425T200000
DTSTAMP:20260425T153745
CREATED:20260422T073525Z
LAST-MODIFIED:20260422T073625Z
UID:10008459-1777140000-1777147200@insidethemani.com
SUMMARY:The 24th Kalamata Road Race
DESCRIPTION:The Race is dedicated to the Special Kindergarten & Special Schools. With the motto for another year\, “Run and walk the fastest route\, in the race of our city” \, athletes\, as well as those who seek well-being\, starting from the Central Square – Vas. Georgiou\, can choose the following alternative sports opportunities:\nSPECIAL OLYMPICS Race 1 km. time 18:10. 10 km. Road Race\, time 18:30 Dynamic Walking\, 10 km. time 18:30 Race for children and parents\, 1.5 km. time 18:35.
URL:https://insidethemani.com/event/the-24th-kalamata-road-race/
LOCATION:Kalamata
CATEGORIES:Outdoor Activities
ATTACH;FMTTYPE=image/webp:https://insidethemani.com/wp-content/uploads/2026/04/road-race-poster.webp
GEO:37.039001303714;22.11114067998
END:VEVENT
BEGIN:VEVENT
DTSTART;TZID=Europe/Athens:20260425T200000
DTEND;TZID=Europe/Athens:20260425T233000
DTSTAMP:20260425T153745
CREATED:20260423T052058Z
LAST-MODIFIED:20260423T052058Z
UID:10008461-1777147200-1777159800@insidethemani.com
SUMMARY:Birthday Bash
DESCRIPTION:
URL:https://insidethemani.com/event/birthday-bash/
LOCATION:Niriides\, Agios Nikolaos
CATEGORIES:Live Music
ATTACH;FMTTYPE=image/webp:https://insidethemani.com/wp-content/uploads/2026/04/Birthday-Bash.webp
GEO:36.823548013619;22.283134995309
END:VEVENT
BEGIN:VEVENT
DTSTART;TZID=Europe/Athens:20260425T210000
DTEND;TZID=Europe/Athens:20260425T210000
DTSTAMP:20260425T153745
CREATED:20250726T113016Z
LAST-MODIFIED:20251021T100941Z
UID:10005810-1777150800-1777150800@insidethemani.com
SUMMARY:Live Music
DESCRIPTION:
URL:https://insidethemani.com/event/live-music/2026-04-25/
LOCATION:Akti Beach Bar\, Santova
ATTACH;FMTTYPE=image/webp:https://insidethemani.com/wp-content/uploads/2025/07/Akti-Beach-bar-Santova.webp
GEO:36.947203805729;22.146033188852
END:VEVENT
END:VCALENDAR